Package: derfinder Version: 1.36.0 Command: /home/biocbuild/R/R-4.3.1/bin/R CMD build --keep-empty-dirs --no-resave-data derfinder StartedAt: 2023-11-02 00:14:50 -0000 (Thu, 02 Nov 2023) EndedAt: 2023-11-02 00:21:47 -0000 (Thu, 02 Nov 2023) EllapsedTime: 417.5 seconds RetCode: 0 Status: OK PackageFile: derfinder_1.36.0.tar.gz PackageFileSize: 2.045 MiB