Package: derfinder Version: 1.36.0 Command: /home/biocbuild/R/R-4.3.1/bin/R CMD INSTALL derfinder StartedAt: 2023-11-01 20:35:27 -0000 (Wed, 01 Nov 2023) EndedAt: 2023-11-01 20:36:31 -0000 (Wed, 01 Nov 2023) EllapsedTime: 64.0 seconds RetCode: 0 Status: OK