Package: derfinder Version: 1.36.0 Command: /home/biocbuild/bbs-3.18-bioc/R/bin/R CMD build --keep-empty-dirs --no-resave-data derfinder StartedAt: 2024-04-15 16:48:24 -0400 (Mon, 15 Apr 2024) EndedAt: 2024-04-15 16:53:00 -0400 (Mon, 15 Apr 2024) EllapsedTime: 276.8 seconds RetCode: 0 Status: OK PackageFile: derfinder_1.36.0.tar.gz PackageFileSize: 1.884 MiB