Package: derfinderHelper Version: 1.36.0 Command: /Library/Frameworks/R.framework/Resources/bin/R CMD INSTALL derfinderHelper StartedAt: 2024-04-15 15:10:31 -0400 (Mon, 15 Apr 2024) EndedAt: 2024-04-15 15:11:01 -0400 (Mon, 15 Apr 2024) EllapsedTime: 29.5 seconds RetCode: 0 Status: OK