Package: derfinderPlot Version: 1.36.0 Command: /Library/Frameworks/R.framework/Resources/bin/R CMD build --keep-empty-dirs --no-resave-data derfinderPlot StartedAt: 2024-04-15 18:13:42 -0400 (Mon, 15 Apr 2024) EndedAt: 2024-04-15 18:20:48 -0400 (Mon, 15 Apr 2024) EllapsedTime: 425.5 seconds RetCode: 0 Status: OK PackageFile: derfinderPlot_1.36.0.tar.gz PackageFileSize: 2.432 MiB