Package: destiny Version: 3.16.0 Command: /home/biocbuild/R/R-4.3.1/bin/R CMD check --install=check:destiny.install-out.txt --library=/home/biocbuild/R/R-4.3.1/site-library --timings destiny_3.16.0.tar.gz StartedAt: 2023-10-25 09:52:51 -0000 (Wed, 25 Oct 2023) EndedAt: 2023-10-25 10:08:47 -0000 (Wed, 25 Oct 2023) EllapsedTime: 955.5 seconds RetCode: 0 Status: WARNINGS CheckDir: destiny.Rcheck Warnings: 1