Package: destiny Version: 3.16.0 Command: /Library/Frameworks/R.framework/Resources/bin/R CMD INSTALL destiny StartedAt: 2024-03-03 15:34:24 -0500 (Sun, 03 Mar 2024) EndedAt: 2024-03-03 15:35:34 -0500 (Sun, 03 Mar 2024) EllapsedTime: 70.0 seconds RetCode: 0 Status: OK