Package: diffuStats Version: 1.22.0 Command: rm -rf diffuStats.buildbin-libdir && mkdir diffuStats.buildbin-libdir && /Users/biocbuild/BBS/utils/build-universal.sh diffuStats_1.22.0.tar.gz /Library/Frameworks/R.framework/Resources/bin/R diffuStats.buildbin-libdir StartedAt: 2024-04-16 11:31:13 -0400 (Tue, 16 Apr 2024) EndedAt: 2024-04-16 11:32:51 -0400 (Tue, 16 Apr 2024) EllapsedTime: 98.2 seconds RetCode: 0 Status: OK PackageFile: diffuStats_1.22.0.tgz PackageFileSize: 1.436 MiB