Package: dks Version: 1.48.0 Command: /home/biocbuild/R/R-4.3.1/bin/R CMD INSTALL dks StartedAt: 2023-11-01 20:05:28 -0000 (Wed, 01 Nov 2023) EndedAt: 2023-11-01 20:05:53 -0000 (Wed, 01 Nov 2023) EllapsedTime: 25.3 seconds RetCode: 0 Status: OK