Package: easyRNASeq Version: 2.38.0 Command: /Library/Frameworks/R.framework/Resources/bin/R CMD build --keep-empty-dirs --no-resave-data easyRNASeq StartedAt: 2024-03-03 16:36:31 -0500 (Sun, 03 Mar 2024) EndedAt: 2024-03-03 16:41:12 -0500 (Sun, 03 Mar 2024) EllapsedTime: 281.2 seconds RetCode: 0 Status: OK PackageFile: easyRNASeq_2.38.0.tar.gz PackageFileSize: 69.55 MiB