Package: easyreporting Version: 1.14.0 Command: /Library/Frameworks/R.framework/Resources/bin/R CMD build --keep-empty-dirs --no-resave-data easyreporting StartedAt: 2024-04-15 18:26:48 -0400 (Mon, 15 Apr 2024) EndedAt: 2024-04-15 18:27:05 -0400 (Mon, 15 Apr 2024) EllapsedTime: 17.1 seconds RetCode: 0 Status: OK PackageFile: easyreporting_1.14.0.tar.gz PackageFileSize: 2.94 MiB