Package: easyreporting Version: 1.14.0 Command: /home/biocbuild/bbs-3.18-bioc/R/bin/R CMD check --install=check:easyreporting.install-out.txt --library=/home/biocbuild/bbs-3.18-bioc/R/site-library --timings easyreporting_1.14.0.tar.gz StartedAt: 2024-04-15 22:22:41 -0400 (Mon, 15 Apr 2024) EndedAt: 2024-04-15 22:23:09 -0400 (Mon, 15 Apr 2024) EllapsedTime: 28.0 seconds RetCode: 0 Status: OK CheckDir: easyreporting.Rcheck Warnings: 0