Package: ecolitk Version: 1.74.0 Command: /home/biocbuild/bbs-3.18-bioc/R/bin/R CMD check --install=check:ecolitk.install-out.txt --library=/home/biocbuild/bbs-3.18-bioc/R/site-library --timings ecolitk_1.74.0.tar.gz StartedAt: 2024-04-15 22:23:55 -0400 (Mon, 15 Apr 2024) EndedAt: 2024-04-15 22:24:45 -0400 (Mon, 15 Apr 2024) EllapsedTime: 49.9 seconds RetCode: 0 Status: WARNINGS CheckDir: ecolitk.Rcheck Warnings: 1