Package: ecolitk Version: 1.74.0 Command: chmod a+r ecolitk -R && F:\biocbuild\bbs-3.18-bioc\R\bin\R.exe CMD build --keep-empty-dirs --no-resave-data ecolitk StartedAt: 2024-04-15 18:10:13 -0400 (Mon, 15 Apr 2024) EndedAt: 2024-04-15 18:10:38 -0400 (Mon, 15 Apr 2024) EllapsedTime: 24.3 seconds RetCode: 0 Status: OK PackageFile: ecolitk_1.74.0.tar.gz PackageFileSize: 1.682 MiB