Package: eds Version: 1.4.0 Command: F:\biocbuild\bbs-3.18-bioc\R\bin\R.exe CMD INSTALL eds StartedAt: 2024-04-15 15:37:54 -0400 (Mon, 15 Apr 2024) EndedAt: 2024-04-15 15:38:22 -0400 (Mon, 15 Apr 2024) EllapsedTime: 28.1 seconds RetCode: 0 Status: OK