Package: eegc Version: 1.28.0 Command: /Library/Frameworks/R.framework/Resources/bin/R CMD check --install=check:eegc.install-out.txt --library=/Library/Frameworks/R.framework/Resources/library --no-vignettes --timings eegc_1.28.0.tar.gz StartedAt: 2024-03-03 20:23:07 -0500 (Sun, 03 Mar 2024) EndedAt: 2024-03-03 20:32:58 -0500 (Sun, 03 Mar 2024) EllapsedTime: 591.5 seconds RetCode: 0 Status: WARNINGS CheckDir: eegc.Rcheck Warnings: 2