Package: enhancerHomologSearch Version: 1.8.3 Command: /home/biocbuild/bbs-3.18-bioc/R/bin/R CMD INSTALL enhancerHomologSearch StartedAt: 2024-04-15 15:23:00 -0400 (Mon, 15 Apr 2024) EndedAt: 2024-04-15 15:29:02 -0400 (Mon, 15 Apr 2024) EllapsedTime: 362.1 seconds RetCode: 0 Status: OK