Package: enrichViewNet Version: 1.0.0 Command: /Library/Frameworks/R.framework/Resources/bin/R CMD INSTALL enrichViewNet StartedAt: 2024-04-15 16:17:51 -0400 (Mon, 15 Apr 2024) EndedAt: 2024-04-15 16:18:43 -0400 (Mon, 15 Apr 2024) EllapsedTime: 52.4 seconds RetCode: 0 Status: OK