Package: enrichplot
Version: 1.22.0
Command: /Library/Frameworks/R.framework/Resources/bin/R CMD INSTALL enrichplot
StartedAt: 2024-04-15 16:08:33 -0400 (Mon, 15 Apr 2024)
EndedAt: 2024-04-15 16:09:27 -0400 (Mon, 15 Apr 2024)
EllapsedTime: 53.9 seconds
RetCode: 0
Status: OK