Package: epimutacions Version: 1.6.1 Command: rm -rf epimutacions.buildbin-libdir && mkdir epimutacions.buildbin-libdir && /Users/biocbuild/BBS/utils/build-universal.sh epimutacions_1.6.1.tar.gz /Library/Frameworks/R.framework/Resources/bin/R epimutacions.buildbin-libdir StartedAt: 2024-03-04 00:40:04 -0500 (Mon, 04 Mar 2024) EndedAt: 2024-03-04 00:41:15 -0500 (Mon, 04 Mar 2024) EllapsedTime: 71.0 seconds RetCode: 0 Status: OK PackageFile: epimutacions_1.6.1.tgz PackageFileSize: 1.629 MiB