Package: epimutacions Version: 1.6.1 Command: /Library/Frameworks/R.framework/Resources/bin/R CMD build --keep-empty-dirs --no-resave-data epimutacions StartedAt: 2024-04-15 18:32:02 -0400 (Mon, 15 Apr 2024) EndedAt: 2024-04-15 18:37:41 -0400 (Mon, 15 Apr 2024) EllapsedTime: 338.9 seconds RetCode: 0 Status: OK PackageFile: epimutacions_1.6.1.tar.gz PackageFileSize: 1.736 MiB