Package: epimutacions Version: 1.6.1 Command: /home/biocbuild/bbs-3.18-bioc/R/bin/R CMD INSTALL epimutacions StartedAt: 2024-04-15 15:51:55 -0400 (Mon, 15 Apr 2024) EndedAt: 2024-04-15 15:52:44 -0400 (Mon, 15 Apr 2024) EllapsedTime: 48.9 seconds RetCode: 0 Status: OK