Package: epimutacions Version: 1.6.1 Command: rm -rf epimutacions.buildbin-libdir && mkdir epimutacions.buildbin-libdir && F:\biocbuild\bbs-3.18-bioc\R\bin\R.exe CMD INSTALL --build --library=epimutacions.buildbin-libdir epimutacions_1.6.1.tar.gz StartedAt: 2024-04-16 06:58:40 -0400 (Tue, 16 Apr 2024) EndedAt: 2024-04-16 06:59:47 -0400 (Tue, 16 Apr 2024) EllapsedTime: 66.7 seconds RetCode: 0 Status: OK PackageFile: epimutacions_1.6.1.zip PackageFileSize: 1.583 MiB