Package: epimutacions Version: 1.6.1 Command: chmod a+r epimutacions -R && F:\biocbuild\bbs-3.18-bioc\R\bin\R.exe CMD build --keep-empty-dirs --no-resave-data epimutacions StartedAt: 2024-04-15 18:16:06 -0400 (Mon, 15 Apr 2024) EndedAt: 2024-04-15 18:20:00 -0400 (Mon, 15 Apr 2024) EllapsedTime: 234.2 seconds RetCode: 0 Status: OK PackageFile: epimutacions_1.6.1.tar.gz PackageFileSize: 1.622 MiB