Package: epivizrChart Version: 1.24.0 Command: chmod a+r epivizrChart -R && F:\biocbuild\bbs-3.18-bioc\R\bin\R.exe CMD build --keep-empty-dirs --no-resave-data epivizrChart StartedAt: 2024-04-15 18:19:32 -0400 (Mon, 15 Apr 2024) EndedAt: 2024-04-15 18:21:46 -0400 (Mon, 15 Apr 2024) EllapsedTime: 134.7 seconds RetCode: 0 Status: OK PackageFile: epivizrChart_1.24.0.tar.gz PackageFileSize: 5.304 MiB