Package: epivizrStandalone Version: 1.30.0 Command: /home/biocbuild/R/R-4.3.1/bin/R CMD build --keep-empty-dirs --no-resave-data epivizrStandalone StartedAt: 2023-11-02 00:54:43 -0000 (Thu, 02 Nov 2023) EndedAt: 2023-11-02 00:55:38 -0000 (Thu, 02 Nov 2023) EllapsedTime: 55.1 seconds RetCode: 0 Status: OK PackageFile: epivizrStandalone_1.30.0.tar.gz PackageFileSize: 286.6 KiB