Package: epivizrStandalone Version: 1.30.0 Command: /Library/Frameworks/R.framework/Resources/bin/R CMD INSTALL epivizrStandalone StartedAt: 2024-03-03 15:22:38 -0500 (Sun, 03 Mar 2024) EndedAt: 2024-03-03 15:23:34 -0500 (Sun, 03 Mar 2024) EllapsedTime: 55.8 seconds RetCode: 0 Status: OK