Package: escheR Version: 1.2.0 Command: rm -rf escheR.buildbin-libdir && mkdir escheR.buildbin-libdir && F:\biocbuild\bbs-3.18-bioc\R\bin\R.exe CMD INSTALL --build --library=escheR.buildbin-libdir escheR_1.2.0.tar.gz StartedAt: 2024-04-16 06:59:26 -0400 (Tue, 16 Apr 2024) EndedAt: 2024-04-16 07:00:02 -0400 (Tue, 16 Apr 2024) EllapsedTime: 35.8 seconds RetCode: 0 Status: OK PackageFile: escheR_1.2.0.zip PackageFileSize: 870.8 KiB