Package: exomeCopy Version: 1.48.0 Command: /home/biocbuild/bbs-3.18-bioc/R/bin/R CMD build --keep-empty-dirs --no-resave-data exomeCopy StartedAt: 2024-04-15 17:02:43 -0400 (Mon, 15 Apr 2024) EndedAt: 2024-04-15 17:03:15 -0400 (Mon, 15 Apr 2024) EllapsedTime: 32.5 seconds RetCode: 0 Status: OK PackageFile: exomeCopy_1.48.0.tar.gz PackageFileSize: 418.6 KiB