Package: exomeCopy Version: 1.48.0 Command: /home/biocbuild/bbs-3.18-bioc/R/bin/R CMD check --install=check:exomeCopy.install-out.txt --library=/home/biocbuild/bbs-3.18-bioc/R/site-library --timings exomeCopy_1.48.0.tar.gz StartedAt: 2024-04-15 22:40:04 -0400 (Mon, 15 Apr 2024) EndedAt: 2024-04-15 22:42:24 -0400 (Mon, 15 Apr 2024) EllapsedTime: 139.7 seconds RetCode: 0 Status: WARNINGS CheckDir: exomeCopy.Rcheck Warnings: 1