Package: extraChIPs Version: 1.6.1 Command: rm -rf extraChIPs.buildbin-libdir && mkdir extraChIPs.buildbin-libdir && /Users/biocbuild/BBS/utils/build-universal.sh extraChIPs_1.6.1.tar.gz /Library/Frameworks/R.framework/Resources/bin/R extraChIPs.buildbin-libdir StartedAt: 2024-03-04 00:40:50 -0500 (Mon, 04 Mar 2024) EndedAt: 2024-03-04 00:42:17 -0500 (Mon, 04 Mar 2024) EllapsedTime: 86.4 seconds RetCode: 0 Status: OK PackageFile: extraChIPs_1.6.1.tgz PackageFileSize: 2.58 MiB