Package: extraChIPs Version: 1.6.1 Command: /Library/Frameworks/R.framework/Resources/bin/R CMD build --keep-empty-dirs --no-resave-data extraChIPs StartedAt: 2024-03-03 16:41:52 -0500 (Sun, 03 Mar 2024) EndedAt: 2024-03-03 16:44:17 -0500 (Sun, 03 Mar 2024) EllapsedTime: 144.7 seconds RetCode: 0 Status: OK PackageFile: extraChIPs_1.6.1.tar.gz PackageFileSize: 3.696 MiB