Package: extraChIPs Version: 1.6.1 Command: /home/biocbuild/bbs-3.18-bioc/R/bin/R CMD INSTALL extraChIPs StartedAt: 2024-04-15 15:30:45 -0400 (Mon, 15 Apr 2024) EndedAt: 2024-04-15 15:31:45 -0400 (Mon, 15 Apr 2024) EllapsedTime: 60.0 seconds RetCode: 0 Status: OK