Package: extraChIPs Version: 1.6.1 Command: chmod a+r extraChIPs -R && F:\biocbuild\bbs-3.18-bioc\R\bin\R.exe CMD build --keep-empty-dirs --no-resave-data extraChIPs StartedAt: 2024-04-15 18:24:18 -0400 (Mon, 15 Apr 2024) EndedAt: 2024-04-15 18:26:55 -0400 (Mon, 15 Apr 2024) EllapsedTime: 156.4 seconds RetCode: 0 Status: OK PackageFile: extraChIPs_1.6.1.tar.gz PackageFileSize: 3.362 MiB