Package: extraChIPs Version: 1.6.1 Command: F:\biocbuild\bbs-3.18-bioc\R\bin\R.exe CMD check --no-multiarch --install=check:extraChIPs.install-out.txt --library=F:\biocbuild\bbs-3.18-bioc\R\library --no-vignettes --timings extraChIPs_1.6.1.tar.gz StartedAt: 2024-04-16 00:43:09 -0400 (Tue, 16 Apr 2024) EndedAt: 2024-04-16 00:52:13 -0400 (Tue, 16 Apr 2024) EllapsedTime: 543.5 seconds RetCode: 0 Status: OK CheckDir: extraChIPs.Rcheck Warnings: 0