Package: extraChIPs Version: 1.6.1 Command: F:\biocbuild\bbs-3.18-bioc\R\bin\R.exe CMD INSTALL extraChIPs StartedAt: 2024-04-15 16:18:33 -0400 (Mon, 15 Apr 2024) EndedAt: 2024-04-15 16:19:54 -0400 (Mon, 15 Apr 2024) EllapsedTime: 81.6 seconds RetCode: 0 Status: OK