Package: fCCAC Version: 1.28.0 Command: /home/biocbuild/bbs-3.18-bioc/R/bin/R CMD build --keep-empty-dirs --no-resave-data fCCAC StartedAt: 2024-04-15 17:04:12 -0400 (Mon, 15 Apr 2024) EndedAt: 2024-04-15 17:05:21 -0400 (Mon, 15 Apr 2024) EllapsedTime: 68.4 seconds RetCode: 0 Status: OK PackageFile: fCCAC_1.28.0.tar.gz PackageFileSize: 3.499 MiB