Package: fCI Version: 1.32.0 Command: /Library/Frameworks/R.framework/Resources/bin/R CMD INSTALL fCI StartedAt: 2024-03-03 15:23:41 -0500 (Sun, 03 Mar 2024) EndedAt: 2024-03-03 15:23:50 -0500 (Sun, 03 Mar 2024) EllapsedTime: 9.1 seconds RetCode: 0 Status: OK