Package: fCI Version: 1.32.0 Command: /Library/Frameworks/R.framework/Resources/bin/R CMD check --install=check:fCI.install-out.txt --library=/Library/Frameworks/R.framework/Resources/library --no-vignettes --timings fCI_1.32.0.tar.gz StartedAt: 2024-04-16 02:46:06 -0400 (Tue, 16 Apr 2024) EndedAt: 2024-04-16 02:47:34 -0400 (Tue, 16 Apr 2024) EllapsedTime: 88.0 seconds RetCode: 0 Status: OK CheckDir: fCI.Rcheck Warnings: 0