Package: fCI Version: 1.32.0 Command: chmod a+r fCI -R && F:\biocbuild\bbs-3.18-bioc\R\bin\R.exe CMD build --keep-empty-dirs --no-resave-data fCI StartedAt: 2024-04-15 18:26:56 -0400 (Mon, 15 Apr 2024) EndedAt: 2024-04-15 18:27:52 -0400 (Mon, 15 Apr 2024) EllapsedTime: 56.4 seconds RetCode: 0 Status: OK PackageFile: fCI_1.32.0.tar.gz PackageFileSize: 1.079 MiB