Package: fCI Version: 1.32.0 Command: F:\biocbuild\bbs-3.18-bioc\R\bin\R.exe CMD INSTALL fCI StartedAt: 2024-04-15 16:09:37 -0400 (Mon, 15 Apr 2024) EndedAt: 2024-04-15 16:09:52 -0400 (Mon, 15 Apr 2024) EllapsedTime: 15.1 seconds RetCode: 0 Status: OK