Package: factR Version: 1.4.0 Command: /Library/Frameworks/R.framework/Resources/bin/R CMD check --install=check:factR.install-out.txt --library=/Library/Frameworks/R.framework/Resources/library --no-vignettes --timings factR_1.4.0.tar.gz StartedAt: 2024-03-03 20:33:45 -0500 (Sun, 03 Mar 2024) EndedAt: 2024-03-03 20:36:49 -0500 (Sun, 03 Mar 2024) EllapsedTime: 184.3 seconds RetCode: 0 Status: OK CheckDir: factR.Rcheck Warnings: 0