Package: factR Version: 1.4.0 Command: /Library/Frameworks/R.framework/Resources/bin/R CMD INSTALL factR StartedAt: 2024-03-03 15:19:03 -0500 (Sun, 03 Mar 2024) EndedAt: 2024-03-03 15:19:19 -0500 (Sun, 03 Mar 2024) EllapsedTime: 15.6 seconds RetCode: 0 Status: OK