Package: factR Version: 1.4.0 Command: /home/biocbuild/bbs-3.18-bioc/R/bin/R CMD build --keep-empty-dirs --no-resave-data factR StartedAt: 2024-04-15 17:03:28 -0400 (Mon, 15 Apr 2024) EndedAt: 2024-04-15 17:06:05 -0400 (Mon, 15 Apr 2024) EllapsedTime: 156.6 seconds RetCode: 0 Status: OK PackageFile: factR_1.4.0.tar.gz PackageFileSize: 1.676 MiB