Package: factR Version: 1.4.0 Command: chmod a+r factR -R && F:\biocbuild\bbs-3.18-bioc\R\bin\R.exe CMD build --keep-empty-dirs --no-resave-data factR StartedAt: 2024-04-15 18:24:44 -0400 (Mon, 15 Apr 2024) EndedAt: 2024-04-15 18:28:17 -0400 (Mon, 15 Apr 2024) EllapsedTime: 212.4 seconds RetCode: 0 Status: OK PackageFile: factR_1.4.0.tar.gz PackageFileSize: 1.38 MiB