Package: farms Version: 1.54.0 Command: F:\biocbuild\bbs-3.18-bioc\R\bin\R.exe CMD check --no-multiarch --install=check:farms.install-out.txt --library=F:\biocbuild\bbs-3.18-bioc\R\library --no-vignettes --timings farms_1.54.0.tar.gz StartedAt: 2024-04-16 00:44:12 -0400 (Tue, 16 Apr 2024) EndedAt: 2024-04-16 00:44:57 -0400 (Tue, 16 Apr 2024) EllapsedTime: 44.5 seconds RetCode: 0 Status: OK CheckDir: farms.Rcheck Warnings: 0