Package: fastreeR Version: 1.6.0 Command: /Library/Frameworks/R.framework/Resources/bin/R CMD check --install=check:fastreeR.install-out.txt --library=/Library/Frameworks/R.framework/Resources/library --no-vignettes --timings fastreeR_1.6.0.tar.gz StartedAt: 2024-03-03 20:34:41 -0500 (Sun, 03 Mar 2024) EndedAt: 2024-03-03 20:35:31 -0500 (Sun, 03 Mar 2024) EllapsedTime: 50.1 seconds RetCode: 0 Status: OK CheckDir: fastreeR.Rcheck Warnings: 0