Package: ffpe Version: 1.46.0 Command: /home/biocbuild/R/R-4.3.1/bin/R CMD build --keep-empty-dirs --no-resave-data ffpe StartedAt: 2023-11-02 01:05:06 -0000 (Thu, 02 Nov 2023) EndedAt: 2023-11-02 01:06:45 -0000 (Thu, 02 Nov 2023) EllapsedTime: 99.1 seconds RetCode: 0 Status: OK PackageFile: ffpe_1.46.0.tar.gz PackageFileSize: 259 KiB