Package: fgsea Version: 1.28.0 Command: /home/biocbuild/R/R-4.3.1/bin/R CMD INSTALL fgsea StartedAt: 2023-11-01 20:43:11 -0000 (Wed, 01 Nov 2023) EndedAt: 2023-11-01 20:44:18 -0000 (Wed, 01 Nov 2023) EllapsedTime: 67.4 seconds RetCode: 0 Status: OK