Package: fgsea Version: 1.28.0 Command: /Library/Frameworks/R.framework/Resources/bin/R CMD INSTALL fgsea StartedAt: 2024-04-15 16:05:10 -0400 (Mon, 15 Apr 2024) EndedAt: 2024-04-15 16:06:40 -0400 (Mon, 15 Apr 2024) EllapsedTime: 89.7 seconds RetCode: 0 Status: OK